BEGIN:VCALENDAR
VERSION:2.0
PRODID:-//CALOBA - ECPv6.15.15//NONSGML v1.0//EN
CALSCALE:GREGORIAN
METHOD:PUBLISH
X-WR-CALNAME:CALOBA
X-ORIGINAL-URL:https://www.caloba.org
X-WR-CALDESC:Events for CALOBA
REFRESH-INTERVAL;VALUE=DURATION:PT1H
X-Robots-Tag:noindex
X-PUBLISHED-TTL:PT1H
BEGIN:VTIMEZONE
TZID:America/Los_Angeles
BEGIN:DAYLIGHT
TZOFFSETFROM:-0800
TZOFFSETTO:-0700
TZNAME:PDT
DTSTART:20250309T100000
END:DAYLIGHT
BEGIN:STANDARD
TZOFFSETFROM:-0700
TZOFFSETTO:-0800
TZNAME:PST
DTSTART:20251102T090000
END:STANDARD
BEGIN:DAYLIGHT
TZOFFSETFROM:-0800
TZOFFSETTO:-0700
TZNAME:PDT
DTSTART:20260308T100000
END:DAYLIGHT
BEGIN:STANDARD
TZOFFSETFROM:-0700
TZOFFSETTO:-0800
TZNAME:PST
DTSTART:20261101T090000
END:STANDARD
BEGIN:DAYLIGHT
TZOFFSETFROM:-0800
TZOFFSETTO:-0700
TZNAME:PDT
DTSTART:20270314T100000
END:DAYLIGHT
BEGIN:STANDARD
TZOFFSETFROM:-0700
TZOFFSETTO:-0800
TZNAME:PST
DTSTART:20271107T090000
END:STANDARD
END:VTIMEZONE
BEGIN:VTIMEZONE
TZID:America/Vancouver
BEGIN:DAYLIGHT
TZOFFSETFROM:-0800
TZOFFSETTO:-0700
TZNAME:PDT
DTSTART:20250309T100000
END:DAYLIGHT
BEGIN:STANDARD
TZOFFSETFROM:-0700
TZOFFSETTO:-0800
TZNAME:PST
DTSTART:20251102T090000
END:STANDARD
BEGIN:DAYLIGHT
TZOFFSETFROM:-0800
TZOFFSETTO:-0700
TZNAME:PDT
DTSTART:20260308T100000
END:DAYLIGHT
BEGIN:STANDARD
TZOFFSETFROM:-0700
TZOFFSETTO:-0800
TZNAME:PST
DTSTART:20261101T090000
END:STANDARD
BEGIN:DAYLIGHT
TZOFFSETFROM:-0800
TZOFFSETTO:-0700
TZNAME:PDT
DTSTART:20270314T100000
END:DAYLIGHT
BEGIN:STANDARD
TZOFFSETFROM:-0700
TZOFFSETTO:-0800
TZNAME:PST
DTSTART:20271107T090000
END:STANDARD
END:VTIMEZONE
BEGIN:VEVENT
DTSTART;TZID=America/Los_Angeles:20260212T120000
DTEND;TZID=America/Los_Angeles:20260212T131500
DTSTAMP:20260422T082839
CREATED:20260122T034651Z
LAST-MODIFIED:20260129T184448Z
UID:3147-1770897600-1770902100@www.caloba.org
SUMMARY:为在美华裔发声：法律之战 (Impact Litigation for Chinese Americans: The good\, the bad\, and the ugly)
DESCRIPTION:为在美华裔发声：法律之战\nImpact Litigation for Chinese Americans: The good\, the bad\, and the ugly \n活动时间与地点\nFeb 12\, 2026 | 12:00 pm – 1:15 pm PST (virtual - zoom) \n活动简介\n本次讲座将通过一系列具有影响力的诉讼案例，探讨在美华人社区所面临的系统性偏见与歧视如何在国家安全政策、移民执法与州级立法中重现。 讲座将回顾微信禁令案（WeChat Ban)，并探讨挑战佛州 SB 264、德州 SB 17 等对华人群体产生歧视性影响的立法，以及针对留学生签证大规模取消的相关诉讼。 通过这些案例，本讲座旨在说明法律如何作为工具，抵制歧视性政策，维护华人群体的权利与尊严。 \n主讲人简介\n朱可亮（Clay Zhu）为德恒律师事务所硅谷办公室管理合伙人、CALDA（华美维权同盟）联合创始人兼主席。Clay 在民权诉讼领域享有盛誉，曾被《Daily Journal》评为 2022 年加州民权诉讼年度律师。他曾成功阻止特朗普政府的微信禁令，并主导多起挑战歧视性州法与移民政策的诉讼。Clay 也在商业诉讼领域具有丰富经验， 曾代表多家上市公司处理股东纠纷、合同违约、证券索赔及境外判决执行等复杂商业案件。 \n\n    \n	\n\n		\n		\n		\n\n		\n\n\n		\n\n\n\n	Tickets\n\n		\n	\n	\n		The numbers below include tickets for this event already in your cart. Clicking "Get Tickets" will allow you to edit any existing attendee information as well as change ticket quantities.	\n\n\n		\n		\n		\n	\n		Tickets are no longer available
URL:https://www.caloba.org/event/%e4%b8%ba%e5%9c%a8%e7%be%8e%e5%8d%8e%e8%a3%94%e5%8f%91%e5%a3%b0%ef%bc%9a%e6%b3%95%e5%be%8b%e4%b9%8b%e6%88%98-impact-litigation-for-chinese-americans-the-good-the-bad-and-the-ugly/
LOCATION:Virtual (TBD)
END:VEVENT
BEGIN:VEVENT
DTSTART;TZID=America/Vancouver:20260228T170000
DTEND;TZID=America/Vancouver:20260228T210000
DTSTAMP:20260422T082839
CREATED:20260131T154408Z
LAST-MODIFIED:20260215T011428Z
UID:3366-1772298000-1772312400@www.caloba.org
SUMMARY:CALOBA 2026 Chinese New Year Gala (February 28\, 2026)
DESCRIPTION:CALOBA cordially invites you to our 2026 Chinese New Year Gala at Ameswell Hotel in Mountain View on Feb. 28! Prepare for an unforgettable evening brimming with exquisite dining\, captivating entertainment\, and engaging activities with prizes.  Come to celebrate with your new and old CALOBA friends as we usher in the Year of the Horse! \nA heartfelt thank you to our sponsors\, Sheppard Mullin\, Hylant Group\, and Sidley Austin for their invaluable support in making this event possible! \n\nLaw Student Member Ticket Price: $100\nMember Ticket Price: $150\nNon-Member Ticket Price: $200\nLogin or Join as a member today to save. RSVP today and save $15 using the coupon code "EARLYBIRD" from now through February 6!
URL:https://www.caloba.org/event/caloba-2026-chinese-new-year-gala-february-28-2026/
LOCATION:The Ameswell Hotel\, 800 Moffett Blvd\, Mountain View\, 94043
END:VEVENT
END:VCALENDAR